Workbook

Sheet OTHER
A1: OTHER
A2: Yellow = you type. White = auto.
A3: DATE | B3: TYPE | C3: PARTICULAR | D3: AMOUNT | E3: COMPANY | G3: PREVIOUS DUE | H3: 0 | J3: ADV DATE | K3: ADV PARTICULAR | L3: ADV AMOUNT
G4: TOTAL BILL | H4: =INT(SUM(D4:D203)) -> 0
G5: ADVANCE TAKEN | H5: =SUM(L4:L33) -> 0
G6: CURRENT DUE | H6: =H3+H4-H5 -> 0

Sheet MANNA
A1: MANNA
A2: Yellow = you type. White = auto.
A3: DATE | B3: TYPE | C3: PARTICULAR | D3: AMOUNT | E3: COMPANY | G3: PREVIOUS DUE | H3: -6986 | J3: ADV DATE | K3: ADV PARTICULAR | L3: ADV AMOUNT
A4: 23.8.26 | B4: FARE | D4: 75 | G4: TOTAL BILL | H4: =INT(SUM(D4:D203)) -> 3155 | J4: 27.8.26 | K4: pen drive | L4: 1000
A5: 25.8.26 | B5: FARE | D5: 130 | G5: ADVANCE TAKEN | H5: =SUM(L4:L33) -> 16000 | J5: 27.8.26 | K5: cash | L5: 1000
A6: 27.8.26 | B6: FARE | D6: 1000 | G6: CURRENT DUE | H6: =H3+H4-H5 -> -19831 | J6: 3.9.26 | L6: 20000
A7: 7.8.26 | B7: MOBILE | D7: 1000 | K7: return | L7: -6000
A8: 27.8.26 | B8: FARE | D8: 75
A9: 30.8.26 | B9: FARE | D9: 250
A10: 1.9.26 | B10: FARE | D10: 75
A11: 3.9.26 | B11: FARE | D11: 270
A12: 6.9.26 | B12: FARE | D12: 280

Sheet SHAWON
A1: SHAWON
A2: Yellow = you type. White = auto.
A3: DATE | B3: TYPE | C3: PARTICULAR | D3: AMOUNT | E3: COMPANY | G3: PREVIOUS DUE | H3: -73940.55 | J3: ADV DATE | K3: ADV PARTICULAR | L3: ADV AMOUNT
A4: 27.8.26 | B4: MOBILE | D4: 600 | G4: TOTAL BILL | H4: =INT(SUM(D4:D203)) -> 9930 | K4: return | L4: -300
A5: 25.8.26 | B5: FARE | D5: 280 | G5: ADVANCE TAKEN | H5: =SUM(L4:L33) -> 13520 | K5: return | L5: -300
A6: 23.8.26 | B6: LOCK | D6: 700 | G6: CURRENT DUE | H6: =H3+H4-H5 -> -77530.55 | J6: 29.08.26 | L6: 2500
A7: 23.8.26 | B7: CLEANING | C7: BUA CLEANING | D7: 100 | K7: abbu | L7: 1000
A8: 1.9.26 | B8: RENEWAL | C8: EPB RENEWAL | D8: 8130.5 | K8: epb renewal | L8: 9000
A9: 2.9.26 | B9: COURIER | D9: 50 | K9: may be | L9: 200
A10: 2.9.26 | B10: FARE | D10: 70 | J10: 08.09.26 | K10: ammu | L10: 2000
J11: 01.09.26 | K11: water metre day | L11: 500
K12: tala | L12: 700
J13: 07.09.26 | K13: ammu2 | L13: 2000
L14: -280
J15: 08.09.26 | K15: RETURN | L15: -3500

Sheet NASIR
A1: NASIR
A2: Yellow = you type. White = auto.
A3: DATE | B3: TYPE | C3: PARTICULAR | D3: AMOUNT | E3: COMPANY | G3: PREVIOUS DUE | H3: -1186 | J3: ADV DATE | K3: ADV PARTICULAR | L3: ADV AMOUNT
A4: 26.8.26 | B4: CO_ONLINE | C4: CO INV-164.26 | D4: 103 | G4: TOTAL BILL | H4: =INT(SUM(D4:D203)) -> 3417 | J4: 27.8.26 | L4: 2000
A5: 26.8.26 | B5: MOBILE | D5: 1000 | G5: ADVANCE TAKEN | H5: =SUM(L4:L33) -> 3000 | J5: 6.9.26 | L5: 1000
A6: 25.8.26 | B6: FARE | D6: 100 | G6: CURRENT DUE | H6: =H3+H4-H5 -> -769
A7: 25.8.26 | B7: LUNCH | D7: 200
A8: 24.8.26 | B8: FARE | D8: 280
A9: 24.8.26 | B9: BREAKFAST | D9: 40
A10: 23.8.26 | B10: CO_ONLINE | C10: CO INV-162.26 | D10: 103
A11: 23.8.26 | B11: FARE | D11: 110
A12: 31.8.26 | B12: FARE | D12: 285
A13: 30.8.26 | B13: FARE | D13: 100
A14: 27.8.26 | B14: FARE | D14: 110
A15: 27.8.26 | B15: LUNCH | D15: 220
A16: 6.9.26 | B16: FARE | D16: 60
A17: 6.9.26 | B17: LUNCH | D17: 220
A18: 7.9.26 | B18: FARE | D18: 280
A19: 2.9.26 | B19: CO_ONLINE | C19: CO INV-165/26+167/26, | D19: 206

Sheet MAHFUZ
A1: MAHFUZ
A2: Yellow = you type. White = auto.
A3: DATE | B3: TYPE | C3: PARTICULAR | D3: AMOUNT | E3: COMPANY | G3: PREVIOUS DUE | H3: -3609 | J3: ADV DATE | K3: ADV PARTICULAR | L3: ADV AMOUNT
A4: 27.8.26 | B4: MOBILE | D4: 500 | G4: TOTAL BILL | H4: =INT(SUM(D4:D203)) -> 15773 | J4: 25.8.26 | L4: 600
A5: 26.8.26 | B5: FOC | C5: FOC, UD- 18/04- FLEECE KNITTED FABRICS | D5: 304.5 | G5: ADVANCE TAKEN | H5: =SUM(L4:L33) -> 20900 | J5: 26.8.26 | L5: 300
A6: 25.8.26 | B6: ACCESSORIES | D6: 160 | G6: CURRENT DUE | H6: =H3+H4-H5 -> -8736 | J6: 27.8.26 | L6: 10000
A7: 25.8.26 | B7: ACCESSORIES | D7: 425 | J7: 3.9.26 | L7: 10000
A8: 25.8.26 | B8: UD | C8: UD 34/12 | D8: 714.29
A9: 25.8.26 | B9: UD | C9: UD 18/4 | D9: 714.29
A10: 23.8.26 | B10: FARE | D10: 120
A11: 23.8.26 | B11: FARE | D11: 100
A12: 23.8.26 | B12: UD | C12: UD 12/8 | D12: 714.29
A13: 23.8.26 | B13: UD | C13: UD 18/3 | D13: 714.29
A14: 29.8.26 | B14: VISIT | D14: 2500
A15: 30.8.26 | B15: UD | C15: UD 21/2026 | D15: 1309.18
A16: 01.9.26 | B16: UD | C16: UD 22/2026 | D16: 1283.67
A17: 6.9.26 | B17: FARE | D17: 80
A18: 6.9.26 | B18: LUNCH | D18: 100
A19: 3.9.26 | B19: FARE | D19: 100
A20: 3.9.26 | B20: PRINT | D20: 50
A21: 3.9.26 | B21: A4X2 | D21: 910
A22: 2.9.26 | B22: FARE | D22: 100
A23: 2.9.26 | B23: UD | C23: UD 18/5 | D23: 714.29
A24: 2.9.26 | B24: UD | C24: UD 31/13 | D24: 714.29
A25: 2.9.26 | B25: UD | C25: UD 17/3 | D25: 1857.14
A26: 25.8.26 | B26: FARE | D26: 160
A27: 8.9.26 | B27: UD | C27: UD 18/6 | D27: 714.29
A28: 8.9.26 | B28: UD | C28: UD 17/4 | D28: 714.29

Sheet JIHAD
A1: JIHAD
A2: Yellow = you type. White = auto.
A3: DATE | B3: TYPE | C3: PARTICULAR | D3: AMOUNT | E3: COMPANY | G3: PREVIOUS DUE | H3: -10996 | J3: ADV DATE | K3: ADV PARTICULAR | L3: ADV AMOUNT
A4: 27.8.26 | B4: MOBILE | D4: 500 | G4: TOTAL BILL | H4: =INT(SUM(D4:D203)) -> 73260 | J4: 31.8.26 | L4: 30000
A5: 26.8.26 | B5: PRINT | D5: 40 | G5: ADVANCE TAKEN | H5: =SUM(L4:L33) -> 86800 | J5: 01.09.26 | K5: pendrive | L5: 800
A6: 26.8.26 | B6: FARE | D6: 20 | G6: CURRENT DUE | H6: =H3+H4-H5 -> -24536 | J6: 01.09.26 | K6: epb | L6: 2000
A7: 25.8.26 | B7: FARE | D7: 50 | J7: 2.9.26 | L7: 3000
A8: 23.8.26 | B8: LUNCH | D8: 100 | J8: 3.9.26 | L8: 10000
A9: 23.8.26 | B9: FARE | D9: 110 | J9: 5.9.26 | L9: 20000
A10: 22.8.26 | B10: A4X2 | D10: 960 | J10: 22.8.26 | L10: 2000
A11: 23.8.26 | B11: STAMP | C11: STAMP INV-164/26, 8X500 | D11: 4000 | J11: 22.8.26 | K11: bl | L11: 10000
A12: 23.8.26 | B12: BL | C12: BL INV-164/26, TGLL26080270, MR7020353 | D12: 3500 | E12: TOPSTAR GLOBAL LOGISTICS | J12: 23.8.26 | L12: 3000
A13: 23.8.26 | B13: BL | C13: BL INV-161/26, S52026225091, M00023615 | D13: 2000 | E13: EFL | J13: 23.8.26 | L13: 6000
A14: 23.8.26 | B14: BL | C14: BL INV-170/26, NLLS26085997, MR005354 | D14: 6000 | E14: NAVANA
A15: 27.8.26 | B15: LUNCH | D15: 100
A16: 27.8.26 | B16: FARE | D16: 150
A17: 27.8.26 | B17: BL | C17: BL INV-136/26, NLLS26075785, MR005379 | D17: 1000 | E17: NAVANA
A18: 1.9.26 | B18: CO_FORM | C18: EPB CO | D18: 345
A19: 1.9.26 | B19: CO_CERTIFICATE | D19: 575
A20: 1.9.26 | B20: LUNCH | D20: 100
A21: 1.9.26 | B21: FARE | D21: 140
A22: 31.8.26 | B22: LUNCH | D22: 100
A23: 31.8.26 | B23: FARE | D23: 130
A24: 31.8.26 | B24: STAMP | C24: STAMP INV-165/26, 8X500 | D24: 4000
A25: 31.8.26 | B25: BL | C25: BL INV-165/26, TGLL26080287, MR7020427 | D25: 3500 | E25: TOPSTAR GLOBAL LOGISTICS
A26: 31.8.26 | B26: BL | C26: BL INV-169/26+163/26, BGLH261766, MR1003901 | D26: 16100 | E26: BGOLS LTD.
A27: 31.8.26 | B27: BL | C27: BL INV-167/26, MFLS26081201, MR0002334 | D27: 9100 | E27: MARVELS FREIGHT LTD.
A28: 01.09.26 | B28: PC_ACCESSORIES | C28: PENDRIVE | D28: 800
A29: 7.9.26 | B29: FARE | D29: 140
A30: 7.9.26 | B30: LUNCH | D30: 100
A31: 6.9.26 | B31: LUNCH | D31: 100
A32: 6.9.26 | B32: COPY | D32: 50
A33: 2.9.26 | B33: LUNCH | D33: 100
A34: 6.9.26 | B34: FARE | D34: 120
A35: 1.9.26 | B35: CO_CERTIFICATE | D35: 575
A36: 1.9.26 | B36: CO_FORM | D36: 345
A37: 3.9.26 | B37: SAFTA MISCELLENEOUS | D37: 420
A38: 2.9.26 | B38: TYPE | D38: 110
A39: 3.9.26 | B39: COURIER | D39: 50
A40: 3.9.26 | B40: LUNCH | D40: 100
...

Sheet MD SIR
A1: MD SIR
A2: Yellow = you type. White = auto.
A3: DATE | B3: TYPE | C3: PARTICULAR | D3: AMOUNT | E3: COMPANY | G3: PREVIOUS DUE | H3: 0 | J3: ADV DATE | K3: ADV PARTICULAR | L3: ADV AMOUNT
A4: 8.9.26 | B4: BILL | C4: OFFICE EXPENSE (CURRENT+WATER) | D4: 42000 | G4: TOTAL BILL | H4: =INT(SUM(D4:D203)) -> 42000 | J4: 27.8.26 | K4: currrent (to uncle) | L4: 15000
G5: ADVANCE TAKEN | H5: =SUM(L4:L33) -> 42000 | J5: 27.8.26 | K5: hand over to uncle | L5: 10000
G6: CURRENT DUE | H6: =H3+H4-H5 -> 0 | J6: 01.09.26 | K6: water metre cost | L6: 17000

Sheet UNCLE
A1: UNCLE
A2: Yellow = you type. White = auto.
A3: DATE | B3: TYPE | C3: PARTICULAR | D3: AMOUNT | E3: COMPANY | G3: PREVIOUS DUE | H3: 0 | J3: ADV DATE | K3: ADV PARTICULAR | L3: ADV AMOUNT
G4: TOTAL BILL | H4: =INT(SUM(D4:D203)) -> 0
G5: ADVANCE TAKEN | H5: =SUM(L4:L33) -> 0
G6: CURRENT DUE | H6: =H3+H4-H5 -> 0

Sheet FUND
A1: FUND — given by Wouliour vai
A3: FUND DATE | B3: FUND AMOUNT
A4: 27.08.26 | B4: 100000
A5: 02.09.26 | B5: 100000
A6: 13.09.2026 | B6: 100000
A10: TOTAL FUND | B10: =SUM(B4:B9) -> 300000

Sheet SUMMARY
B2: SUMMARY — this bill set
B3: 100% automatic (except the two yellow carry cells).
B4: Account | C4: Bill | D4: Advance | E4: Previous due | F4: Current due
B5: MANNA | C5: =MANNA!H4 -> 3155 | D5: =MANNA!H5 -> 16000 | E5: =MANNA!H3 -> -6986 | F5: =MANNA!H6 -> -19831
B6: OTHER | C6: =OTHER!H4 -> 0 | D6: =OTHER!H5 -> 0 | E6: =OTHER!H3 -> 0 | F6: =OTHER!H6 -> 0
B7: SHAWON | C7: =SHAWON!H4 -> 9930 | D7: =SHAWON!H5 -> 13520 | E7: =SHAWON!H3 -> -73940.55 | F7: =SHAWON!H6 -> -77530.55
B8: NASIR | C8: =NASIR!H4 -> 3417 | D8: =NASIR!H5 -> 3000 | E8: =NASIR!H3 -> -1186 | F8: =NASIR!H6 -> -769
B9: MAHFUZ | C9: =MAHFUZ!H4 -> 15773 | D9: =MAHFUZ!H5 -> 20900 | E9: =MAHFUZ!H3 -> -3609 | F9: =MAHFUZ!H6 -> -8736
B10: JIHAD | C10: =JIHAD!H4 -> 73260 | D10: =JIHAD!H5 -> 86800 | E10: =JIHAD!H3 -> -10996 | F10: =JIHAD!H6 -> -24536
B11: MD SIR | C11: ='MD SIR'!H4 -> 42000 | D11: ='MD SIR'!H5 -> 42000 | E11: ='MD SIR'!H3 -> 0 | F11: ='MD SIR'!H6 -> 0
B12: UNCLE | C12: =UNCLE!H4 -> 0 | D12: =UNCLE!H5 -> 0 | E12: =UNCLE!H3 -> 0 | F12: =UNCLE!H6 -> 0
B13: TOTAL | C13: =SUM(C5:C12) -> 147535 | D13: =SUM(D5:D12) -> 182220 | E13: =SUM(E5:E12) -> -96717.55 | F13: =SUM(F5:F12) -> -131402.55
B15: MEMBER DUE (held by all) | C15: =F13 -> -131402.55
B17: WOULIOUR VAI — running statement
B18: Opening balance owed | C18: -114937.55
B19: New fund this set | C19: =FUND!B10 -> 300000
B20: Bills submitted this set | C20: =C13 -> 147535
B21: Closing balance owed | C21: =C18-FUND!B10+C13 -> -267402.55
B23: CASH IN HAND — running
B24: Previous cash in hand | C24: 18220
B25: Cash in hand | C25: =C24+FUND!B10-D13 -> 136000
