Workbook

Sheet MANNA
A1: MANNA
A2: Yellow = you type. White = auto.
A3: DATE | B3: TYPE | C3: PARTICULAR | D3: AMOUNT | E3: COMPANY | G3: PREVIOUS DUE | H3: -15454 | J3: ADV DATE | K3: ADV PARTICULAR | L3: ADV AMOUNT
A4: 14.7.26 | B4: FARE | D4: 320 | G4: TOTAL BILL | H4: =INT(SUM(D4:D203)) -> 7255 | J4: 5.7.26 | L4: 2000
A5: 15.7.26 | B5: FARE | D5: 75 | G5: ADVANCE TAKEN | H5: =SUM(L4:L33) -> 3000 | J5: 9.7.26 | K5: RETURN | L5: -10000
A6: 18.7.26 | B6: FARE | D6: 120 | G6: CURRENT DUE | H6: =H3+H4-H5 -> -11199 | J6: 14.7.26 | L6: 1000
A7: 9.7.26 | B7: FARE | D7: 160 | J7: 21.7.26 | L7: 10000
A8: 8.7.26 | B8: FARE | D8: 60
A9: 7.7.26 | B9: MOBILE | D9: 1000
A10: 9.7.26 | B10: FARE | D10: 80
A11: 8.7.26 | B11: FARE | D11: 100
A12: 21.7.26 | B12: FARE | D12: 340
A13: 21.7.26 | B13: CUSTOM | C13: FABRIC BONDING TIME EXTENSION | D13: 3000
A14: 21.7.26 | B14: RENEWAL | C14: K-TEX ERC RENEWAL | D14: 2000

Sheet OTHER
A1: OTHER
A2: Yellow = you type. White = auto.
A3: DATE | B3: TYPE | C3: PARTICULAR | D3: AMOUNT | E3: COMPANY | G3: PREVIOUS DUE | H3: 0 | J3: ADV DATE | K3: ADV PARTICULAR | L3: ADV AMOUNT
A4: 18.7.26 | B4: GUEST_TIFFIN | C4: GUEST FROM SHAOXING BINBO | D4: 1150 | G4: TOTAL BILL | H4: =INT(SUM(D4:D203)) -> 14500 | J4: 9.7.26 | K4: NET | L4: 1550
A5: 12.7.26 | B5: FILTER | C5: SERVICE | D5: 800 | G5: ADVANCE TAKEN | H5: =SUM(L4:L33) -> 14500 | J5: 9.7.26 | K5: VAT | L5: 11000
A6: 9.7.26 | B6: NET | D6: 1550 | G6: CURRENT DUE | H6: =H3+H4-H5 -> 0 | J6: 12.7.26 | K6: FILTER KIT 3 | L6: 800
A7: 9.7.26 | B7: MONTHLY_VAT | D7: 11000 | J7: 18.7.26 | K7: GUEST TIFFIN | L7: 1150

Sheet SHAWON
A1: SHAWON
A2: Yellow = you type. White = auto.
A3: DATE | B3: TYPE | C3: PARTICULAR | D3: AMOUNT | E3: COMPANY | G3: PREVIOUS DUE | H3: -35638.55 | J3: ADV DATE | K3: ADV PARTICULAR | L3: ADV AMOUNT
A4: 14.7.26 | B4: FARE | D4: 50 | G4: TOTAL BILL | H4: =INT(SUM(D4:D203)) -> 460 | J4: 5.7.26 | L4: 1000
A5: 14.7.26 | B5: COURIER | D5: 50 | G5: ADVANCE TAKEN | H5: =SUM(L4:L33) -> 3400 | J5: 7.7.26 | L5: 400
A6: 6.7.26 | B6: FARE | D6: 180 | G6: CURRENT DUE | H6: =H3+H4-H5 -> -38578.55 | J6: 8.7.26 | L6: -8000
A7: 20.7.26 | B7: FARE | D7: 180 | J7: 9.7.26 | K7: BKASH | L7: 2000
J8: 15.7.26 | K8: ANTHROPIC | L8: 3000
J9: 17.7.26 | K9: MRG | L9: 5000

Sheet NASIR
A1: NASIR
A2: Yellow = you type. White = auto.
A3: DATE | B3: TYPE | C3: PARTICULAR | D3: AMOUNT | E3: COMPANY | G3: PREVIOUS DUE | H3: -1379 | J3: ADV DATE | K3: ADV PARTICULAR | L3: ADV AMOUNT
A4: 17.7.26 | B4: CO_PAY | C4: CO INV-129/26 | D4: 103 | G4: TOTAL BILL | H4: =INT(SUM(D4:D203)) -> 2663 | J4: 8.7.26 | L4: 1000
A5: 16.7.26 | B5: FARE | D5: 110 | G5: ADVANCE TAKEN | H5: =SUM(L4:L33) -> 2000 | J5: 9.7.26 | K5: RETURN | L5: -1000
A6: 15.7.26 | B6: FARE | D6: 130 | G6: CURRENT DUE | H6: =H3+H4-H5 -> -716 | J6: 18.7.26 | L6: 1000
A7: 15.7.26 | B7: LUNCH | D7: 180 | J7: 21.7.26 | L7: 1000
A8: 14.7.26 | B8: FARE | D8: 110
A9: 12.7.26 | B9: FARE | D9: 100
A10: 12.7.26 | B10: LUNCH | D10: 220
A11: 9.7.26 | B11: FARE | D11: 110
A12: 8.7.26 | B12: FARE | D12: 90
A13: 5.7.26 | B13: FARE | D13: 110
A14: 5.7.26 | B14: LUNCH | D14: 190
A15: 6.7.26 | B15: FARE | D15: 210
A16: 7.7.26 | B16: FARE | D16: 130
A17: 2.7.26 | B17: FARE | D17: 110
A18: 21.7.26 | B18: FARE | D18: 120
A19: 21.7.26 | B19: LUNCH | D19: 220
... A21: 19.7.26 | B21: FARE | D21: 110

Sheet MAHFUZ
A1: MAHFUZ
A2: Yellow = you type. White = auto.
A3: DATE | B3: TYPE | C3: PARTICULAR | D3: AMOUNT | E3: COMPANY | G3: PREVIOUS DUE | H3: -4136 | J3: ADV DATE | K3: ADV PARTICULAR | L3: ADV AMOUNT
A4: 20.7.26 | B4: FARE | D4: 100 | G4: TOTAL BILL | H4: =INT(SUM(D4:D204)) -> 11285 | J4: 7.7.26 | K4: UD | L4: 5000
A5: 15.7.26 | B5: UD | C5: UD 3/5 | D5: 861.22 | G5: ADVANCE TAKEN | H5: =SUM(L4:L33) -> 15000 | J5: 10.7.26 | L5: 10000
A6: 14.7.26 | B6: FOC | C6: FOC UD 12.4, FLEECE FABRIC | D6: 304.5 | G6: CURRENT DUE | H6: =H3+H4-H5 -> -7851
A7: 14.7.26 | B7: FOC | C7: FOC UD 12/4, LACE FABRIC | D7: 304.5
A8: 15.7.26 | B8: UD | C8: UD 12/5 | D8: 714.29
A9: 12.7.26 | B9: UD | C9: UD 31/10 | D9: 842.86
A10: 11.7.26 | B10: UD | C10: UD 4/5 | D10: 790.82
A11: 9.7.26 | B11: RENEWAL | C11: TRADE LICENCE PURPOSE, AIT PAY RENEWAL | D11: 2000 | E11: KAS KNITWEAR
A12: 9.7.26 | B12: RENEWAL | C12: TRADE LICENCE PURPOSE, AIT PAY RENEWAL | D12: 2040 | E12: KAS KNITTING
A13: 7.7.26 | B13: ACCESSORIES | D13: 370
A14: 5.7.26 | B14: FARE | D14: 100
A15: 7.7.26 | B15: UD | C15: UD 14/3 | D15: 714.29
A16: 21.7.26 | B16: UD | C16: UD 7/8 | D16: 714.29
A17: 21.7.26 | B17: UD | C17: UD 17/1 | D17: 714.29
A18: 14.7.26 | B18: UD | C18: UD 12/4 | D18: 714.29

Sheet JIHAD
A1: JIHAD
A2: Yellow = you type. White = auto.
A3: DATE | B3: TYPE | C3: PARTICULAR | D3: AMOUNT | E3: COMPANY | G3: PREVIOUS DUE | H3: -16067 | J3: ADV DATE | K3: ADV PARTICULAR | L3: ADV AMOUNT
A4: 20.7.26 | B4: LUNCH | D4: 100 | G4: TOTAL BILL | H4: =INT(SUM(D4:D202)) -> 79360 | J4: 5.7.26 | L4: 3000
A5: DO | B5: COURIER | D5: 45 | G5: ADVANCE TAKEN | H5: =SUM(L4:L31) -> 76000 | J5: 5.7.26 | K5: BATTERY | L5: 500
A6: 16.7.26 | B6: FARE | D6: 120 | G6: CURRENT DUE | H6: =H3+H4-H5 -> -12707 | J6: 8.7.26 | L6: 3000
A7: 20.7.7.26 | B7: FARE | D7: 200 | J7: 9.7.26 | K7: A4 | L7: 1000
A8: 20.7.26 | B8: BL | C8: BL INV-38/26, ELL-BD11017, | D8: 8500 | E8: EXPO BANGLA | J8: 12.7.26 | L8: 11000
A9: 20.7.26 | B9: BL | C9: BL INV-139/26, CLAE26060034, NO. 208 | D9: 3000 | E9: CONFREIGHT SERVICE | J9: 15.7.26 | L9: 13000
A10: 15.7.26 | B10: BL | C10: IMPORT BL- SHA60712HQ | D10: 5500 | E10: SHA LOGISTICS | J10: 16.7.26 | L10: 10000
A11: 16.7.26 | B11: LUNCH | D11: 100 | J11: 19.7.26 | L11: 18500
A12: 16.7.26 | B12: BL | C12: BL INV-142/26, WACA26070087, | D12: 3700 | E12: WAC LOGISTICS | J12: 21.7.26 | L12: 16000
A13: 16.7.26 | B13: BL | C13: BL INV-129/26, SBLS0354, MR003039 | D13: 6120 | E13: SAFESEA
A14: 19.7.26 | B14: FARE | D14: 210
A15: 19.7.26 | B15: LUNCH | D15: 100
A16: 19.7.26 | B16: PRINT | D16: 40
A17: 19.7.26 | B17: PAPERX2 | D17: 960
A18: 19.7.26 | B18: STAMP | C18: STAMP INV-134/26 | D18: 3000 | E18: SCAN GLOBAL
A19: 19.7.26 | B19: BL | C19: BL INV-134/26, DACS024420 | D19: 2500 | E19: SCAN GLOBAL
A20: 15.7.26 | B20: COURIER | D20: 45
A21: 15.7.26 | B21: FARE | D21: 60
A22: 15.7.26 | B22: BL | C22: BL INV-104/26, DACS03257317, NO. 7065 | D22: 2000 | E22: SEKO FREIGHT
A23: 15.7.26 | B23: LUNCH | D23: 100
A24: 15.7.26 | B24: FARE | D24: 140
A25: 14.7.26 | B25: PRINT | D25: 20
A26: 14.7.26 | B26: FARE | D26: 120
A27: 14.7.26 | B27: LUNCH | D27: 100
A28: 14.7.26 | B28: STAMP | C28: STAMP INV-128/26, 6X500 | D28: 3000 | E28: FASHION CARGO
A29: 14.7.26 | B29: BL | C29: BL INV-128/26, PCL26070237, MR003380 | D29: 5000 | E29: FASHION CARGO
A30: 14.7.26 | B30: BL | C30: BL INV-135/26, BGLH261226, MR1003623 | D30: 7880 | E30: B-GOLS LTD.
A31: 13.7.26 | B31: FARE | D31: 160
A32: 13.7.26 | B32: LUNCH | D32: 100
A33: 12.7.26 | B33: FARE | D33: 170
A34: 12.7.26 | B34: LUNCH | D34: 100
A35: 13.7.26 | B35: WATER | D35: 100
A36: 13.7.26 | B36: COURIER | D36: 50
A37: 13.7.26 | B37: STAMP | C37: STAMP INV-134/26, 6X500 | D37: 3000 | E37: SCAN GLOBAL
A38: 13.7.26 | B38: BL | C38: BL INV-134/26, DACS021845 | D38: 2500 | E38: SCAN GLOBAL
A39: 11.7.26 | B39: PAPERX2 | D39: 960
A40: 8.7.26 | B40: COURIER | D40: 50
...

Sheet MD SIR
A1: MD SIR
A2: Yellow = you type. White = auto.
A3: DATE | B3: TYPE | C3: PARTICULAR | D3: AMOUNT | E3: COMPANY | G3: PREVIOUS DUE | H3: 0 | J3: ADV DATE | K3: ADV PARTICULAR | L3: ADV AMOUNT
G4: TOTAL BILL | H4: =INT(SUM(D4:D203)) -> 0
G5: ADVANCE TAKEN | H5: =SUM(L4:L33) -> 0
G6: CURRENT DUE | H6: =H3+H4-H5 -> 0

Sheet UNCLE
A1: UNCLE
A2: Yellow = you type. White = auto.
A3: DATE | B3: TYPE | C3: PARTICULAR | D3: AMOUNT | E3: COMPANY | G3: PREVIOUS DUE | H3: -10000 | J3: ADV DATE | K3: ADV PARTICULAR | L3: ADV AMOUNT
A4: 14.7.26 | B4: OFFICE_EXPENSE | C4: OFFICE UTILITY EXPENSE | D4: 10000 | G4: TOTAL BILL | H4: =INT(SUM(D4:D203)) -> 10000
G5: ADVANCE TAKEN | H5: =SUM(L4:L33) -> 0
G6: CURRENT DUE | H6: =H3+H4-H5 -> 0

Sheet FUND
A1: FUND — given by Wouliour vai
A3: FUND DATE | B3: FUND AMOUNT
A4: 14.7.26 | B4: 100000
A5: 22.7.26 | B5: 100000
A10: TOTAL FUND | B10: =SUM(B4:B9) -> 200000

Sheet SUMMARY
A1: SUMMARY — this bill set
A2: 100% automatic (except the two yellow carry cells).
A3: Account | B3: Bill | C3: Advance | D3: Previous due | E3: Current due
A4: MANNA | B4: =MANNA!H4 -> 7255 | C4: =MANNA!H5 -> 3000 | D4: =MANNA!H3 -> -15454 | E4: =MANNA!H6 -> -11199
A5: OTHER | B5: =OTHER!H4 -> 14500 | C5: =OTHER!H5 -> 14500 | D5: =OTHER!H3 -> 0 | E5: =OTHER!H6 -> 0
A6: SHAWON | B6: =SHAWON!H4 -> 460 | C6: =SHAWON!H5 -> 3400 | D6: =SHAWON!H3 -> -35638.55 | E6: =SHAWON!H6 -> -38578.55
A7: NASIR | B7: =NASIR!H4 -> 2663 | C7: =NASIR!H5 -> 2000 | D7: =NASIR!H3 -> -1379 | E7: =NASIR!H6 -> -716
A8: MAHFUZ | B8: =MAHFUZ!H4 -> 11285 | C8: =MAHFUZ!H5 -> 15000 | D8: =MAHFUZ!H3 -> -4136 | E8: =MAHFUZ!H6 -> -7851
A9: JIHAD | B9: =JIHAD!H4 -> 79360 | C9: =JIHAD!H5 -> 76000 | D9: =JIHAD!H3 -> -16067 | E9: =JIHAD!H6 -> -12707
A10: MD SIR | B10: ='MD SIR'!H4 -> 0 | C10: ='MD SIR'!H5 -> 0 | D10: ='MD SIR'!H3 -> 0 | E10: ='MD SIR'!H6 -> 0
A11: UNCLE | B11: =UNCLE!H4 -> 10000 | C11: =UNCLE!H5 -> 0 | D11: =UNCLE!H3 -> -10000 | E11: =UNCLE!H6 -> 0
A12: TOTAL | B12: =SUM(B4:B11) -> 125523 | C12: =SUM(C4:C11) -> 113900 | D12: =SUM(D4:D11) -> -82674.55 | E12: =SUM(E4:E11) -> -71051.55
A14: MEMBER DUE (held by all) | B14: =E12 -> -71051.55
A16: WOULIOUR VAI — running statement
A17: Opening balance owed | B17: -116174.55
A18: New fund this set | B18: =FUND!B10 -> 200000
A19: Bills submitted this set | B19: =B12 -> 125523
A20: Closing balance owed | B20: =B17-FUND!B10+B12 -> -190651.55
A22: CASH IN HAND — running
A23: Previous cash in hand | B23: 33500
A24: Cash in hand | B24: =B23+FUND!B10-C12 -> 119600
