Workbook

Sheet OTHER
A1: OTHER
A2: Yellow = you type. White = auto.
A3: DATE | B3: TYPE | C3: PARTICULAR | D3: AMOUNT | E3: COMPANY | G3: PREVIOUS DUE | H3: 0 | J3: ADV DATE | K3: ADV PARTICULAR | L3: ADV AMOUNT
G4: TOTAL BILL | H4: =INT(SUM(D4:D203)) -> 0
G5: ADVANCE TAKEN | H5: =SUM(L4:L33) -> 0
G6: CURRENT DUE | H6: =H3+H4-H5 -> 0

Sheet MANNA
A1: MANNA
A2: Yellow = you type. White = auto.
A3: DATE | B3: TYPE | C3: PARTICULAR | D3: AMOUNT | E3: COMPANY | G3: PREVIOUS DUE | H3: -14777 | J3: ADV DATE | K3: ADV PARTICULAR | L3: ADV AMOUNT
A4: 05.07.26 | B4: PC PARTS | C4: MOUSE | D4: 700 | G4: TOTAL BILL | H4: =INT(SUM(D4:D203)) -> 50023 | J4: 30.06.26 | K4: irc & erc purpose | L4: 50000
A5: 2.7.26 | B5: FARE | D5: 390 | G5: ADVANCE TAKEN | H5: =SUM(L4:L33) -> 50700 | J5: 05.07.26 | K5: mouse | L5: 700
A6: 29.6.26 | B6: FARE | D6: 40 | G6: CURRENT DUE | H6: =H3+H4-H5 -> -15454
A7: 28.6.26 | B7: BKASH | C7: BKASH CHARGE | D7: 110
A8: 1.7.26 | B8: RENEWAL | C8: IRC+BKASH | D8: 39491
A9: 1.7.26 | B9: RENEWAL | C9: ERC+BKASH | D9: 9292

Sheet SHAWON
A1: SHAWON
A2: Yellow = you type. White = auto.
A3: DATE | B3: TYPE | C3: PARTICULAR | D3: AMOUNT | E3: COMPANY | G3: PREVIOUS DUE | H3: -31308.55 | J3: ADV DATE | K3: ADV PARTICULAR | L3: ADV AMOUNT
A4: 2.7.26 | B4: FARE | D4: 50 | G4: TOTAL BILL | H4: =INT(SUM(D4:D203)) -> 170 | J4: 2.7.26 | K4: taken for personal | L4: 2000
A5: 30.6.26 | B5: FARE | D5: 20 | G5: ADVANCE TAKEN | H5: =SUM(L4:L33) -> 4500 | J5: 4.7.26 | K5: mm | L5: 2500
A6: 29.6.26 | B6: FARE | D6: 100 | G6: CURRENT DUE | H6: =H3+H4-H5 -> -35638.55

Sheet NASIR
A1: NASIR
A2: Yellow = you type. White = auto.
A3: DATE | B3: TYPE | C3: PARTICULAR | D3: AMOUNT | E3: COMPANY | G3: PREVIOUS DUE | H3: -669 | J3: ADV DATE | K3: ADV PARTICULAR | L3: ADV AMOUNT
A4: 2.7.26 | B4: FARE | D4: 110 | G4: TOTAL BILL | H4: =INT(SUM(D4:D203)) -> 290 | J4: 2.7.26 | K4: from zihad | L4: 1000
A5: 2.7.26 | B5: LUNCH | D5: 180 | G5: ADVANCE TAKEN | H5: =SUM(L4:L33) -> 1000
G6: CURRENT DUE | H6: =H3+H4-H5 -> -1379

Sheet MAHFUZ
A1: MAHFUZ
A2: Yellow = you type. White = auto.
A3: DATE | B3: TYPE | C3: PARTICULAR | D3: AMOUNT | E3: COMPANY | G3: PREVIOUS DUE | H3: -15636 | J3: ADV DATE | K3: ADV PARTICULAR | L3: ADV AMOUNT
A4: 23.6.26 | B4: DKC CNF BILL | C4: INV-26GWSE23Z4071, FLEECE KNITTED RIB | D4: 5500 | E4: SHA LOGISTICFS | G4: TOTAL BILL | H4: =INT(SUM(D4:D203)) -> 5500 | J4: 30.6.26 | K4: returns | L4: -6000
G5: ADVANCE TAKEN | H5: =SUM(L4:L33) -> -6000
G6: CURRENT DUE | H6: =H3+H4-H5 -> -4136

Sheet JIHAD
A1: JIHAD
A2: Yellow = you type. White = auto.
A3: DATE | B3: TYPE | C3: PARTICULAR | D3: AMOUNT | E3: COMPANY | G3: PREVIOUS DUE | H3: -3247 | J3: ADV DATE | K3: ADV PARTICULAR | L3: ADV AMOUNT
A4: 4.7.26 | B4: FARE | D4: 80 | G4: TOTAL BILL | H4: =INT(SUM(D4:D203)) -> 680 | J4: 4.7.26 | K4: tissue | L4: 500
A5: 2.7.26 | B5: ACCESSORIES | C5: TISSUE 4 | D5: 400 | G5: ADVANCE TAKEN | H5: =SUM(L4:L33) -> 13500 | J5: do | K5: stamp | L5: 6000
A6: 2.7.26 | B6: LUNCH | D6: 100 | G6: CURRENT DUE | H6: =H3+H4-H5 -> -16067 | J6: 5.7.26 | K6: bl | L6: 7000
A7: 2.7.26 | B7: FARE | D7: 100

Sheet MD SIR
A1: MD SIR
A2: Yellow = you type. White = auto.
A3: DATE | B3: TYPE | C3: PARTICULAR | D3: AMOUNT | E3: COMPANY | G3: PREVIOUS DUE | H3: 0 | J3: ADV DATE | K3: ADV PARTICULAR | L3: ADV AMOUNT
G4: TOTAL BILL | H4: =INT(SUM(D4:D203)) -> 0
G5: ADVANCE TAKEN | H5: =SUM(L4:L33) -> 0
G6: CURRENT DUE | H6: =H3+H4-H5 -> 0

Sheet UNCLE
A1: UNCLE
A2: Yellow = you type. White = auto.
A3: DATE | B3: TYPE | C3: PARTICULAR | D3: AMOUNT | E3: COMPANY | G3: PREVIOUS DUE | H3: -10000 | J3: ADV DATE | K3: ADV PARTICULAR | L3: ADV AMOUNT
G4: TOTAL BILL | H4: =INT(SUM(D4:D203)) -> 0
G5: ADVANCE TAKEN | H5: =SUM(L4:L33) -> 0
G6: CURRENT DUE | H6: =H3+H4-H5 -> -10000

Sheet FUND
A1: FUND — given by Wouliour vai
A3: FUND DATE | B3: FUND AMOUNT
A4: 2.7.26 | B4: 50000
A10: TOTAL FUND | B10: =SUM(B4:B9) -> 50000

Sheet SUMMARY
A1: SUMMARY — this bill set
A2: 100% automatic (except the two yellow carry cells).
A3: Account | B3: Bill | C3: Advance | D3: Previous due | E3: Current due
A4: MANNA | B4: =MANNA!H4 -> 50023 | C4: =MANNA!H5 -> 50700 | D4: =MANNA!H3 -> -14777 | E4: =MANNA!H6 -> -15454
A5: OTHER | B5: =OTHER!H4 -> 0 | C5: =OTHER!H5 -> 0 | D5: =OTHER!H3 -> 0 | E5: =OTHER!H6 -> 0
A6: SHAWON | B6: =SHAWON!H4 -> 170 | C6: =SHAWON!H5 -> 4500 | D6: =SHAWON!H3 -> -31308.55 | E6: =SHAWON!H6 -> -35638.55
A7: NASIR | B7: =NASIR!H4 -> 290 | C7: =NASIR!H5 -> 1000 | D7: =NASIR!H3 -> -669 | E7: =NASIR!H6 -> -1379
A8: MAHFUZ | B8: =MAHFUZ!H4 -> 5500 | C8: =MAHFUZ!H5 -> -6000 | D8: =MAHFUZ!H3 -> -15636 | E8: =MAHFUZ!H6 -> -4136
A9: JIHAD | B9: =JIHAD!H4 -> 680 | C9: =JIHAD!H5 -> 13500 | D9: =JIHAD!H3 -> -3247 | E9: =JIHAD!H6 -> -16067
A10: MD SIR | B10: ='MD SIR'!H4 -> 0 | C10: ='MD SIR'!H5 -> 0 | D10: ='MD SIR'!H3 -> 0 | E10: ='MD SIR'!H6 -> 0
A11: UNCLE | B11: =UNCLE!H4 -> 0 | C11: =UNCLE!H5 -> 0 | D11: =UNCLE!H3 -> -10000 | E11: =UNCLE!H6 -> -10000
A12: TOTAL | B12: =SUM(B4:B11) -> 56663 | C12: =SUM(C4:C11) -> 63700 | D12: =SUM(D4:D11) -> -75637.55 | E12: =SUM(E4:E11) -> -82674.55
A14: MEMBER DUE (held by all) | B14: =E12 -> -82674.55
A16: WOULIOUR VAI — running statement
A17: Opening balance owed | B17: -122837.55
A18: New fund this set | B18: =FUND!B10 -> 50000
A19: Bills submitted this set | B19: =B12 -> 56663
A20: Closing balance owed | B20: =B17-FUND!B10+B12 -> -116174.55
A22: CASH IN HAND — running
A23: Previous cash in hand | B23: 47200
A24: Cash in hand | B24: =B23+FUND!B10-C12 -> 33500
