Workbook

Sheet MANNA
A1: MANNA
A2: Yellow = you type. White = auto.
A3: DATE | B3: TYPE | C3: PARTICULAR | D3: AMOUNT | E3: COMPANY | G3: PREVIOUS DUE | H3: -5854 | J3: ADV DATE | K3: ADV PARTICULAR | L3: ADV AMOUNT
A4: 7.6.26 | B4: FARE | C4: FARE | D4: 125 | G4: TOTAL BILL | H4: =FLOOR(SUM(D4:D203),1) -> 1040 | J4: 9.6.26 | K4: advance | L4: 10000
A5: 10.6.26 | B5: FARE | C5: FARE | D5: 180 | G5: ADVANCE TAKEN | H5: =SUM(L4:L33) -> 5000 | J5: 12.6.26 | K5: RETURN | L5: -5000
A6: 10.6.26 | B6: LUNCH | C6: LUNCH | D6: 170 | G6: CURRENT DUE | H6: =H3+H4-H5 -> -9814
A7: 25.5.26 | B7: FARE | C7: FARE | D7: 290
A8: 3.6.26 | B8: FARE | C8: FARE | D8: 230
A9: 3.6.26 | B9: COURIER | C9: COURIER | D9: 45

Sheet OTHER
A1: OTHER
A2: Yellow = you type. White = auto.
A3: DATE | B3: TYPE | C3: PARTICULAR | D3: AMOUNT | E3: COMPANY | G3: PREVIOUS DUE | H3: 0 | J3: ADV DATE | K3: ADV PARTICULAR | L3: ADV AMOUNT
A4: 10.6.26 | B4: NET | C4: NET | D4: 1500 | G4: TOTAL BILL | H4: =FLOOR(SUM(D4:D203),1) -> 12500 | J4: 12.6.26 | K4: advance | L4: 12500
A5: 10.6.26 | B5: MONTHLY VAT | C5: MONTHLY VAT | D5: 11000 | G5: ADVANCE TAKEN | H5: =SUM(L4:L33) -> 12500
G6: CURRENT DUE | H6: =H3+H4-H5 -> 0

Sheet SHAWON
A1: SHAWON
A2: Yellow = you type. White = auto.
A3: DATE | B3: TYPE | C3: PARTICULAR | D3: AMOUNT | E3: COMPANY | G3: PREVIOUS DUE | H3: -29516.55 | J3: ADV DATE | K3: ADV PARTICULAR | L3: ADV AMOUNT
A4: 10.6.26 | B4: LUNCH | C4: LUNCH | D4: 130 | G4: TOTAL BILL | H4: =FLOOR(SUM(D4:D203),1) -> 1574
A5: 6.6.26 | B5: WATER | C5: WATER | D5: 20 | G5: ADVANCE TAKEN | H5: =SUM(L4:L33) -> 0
A6: 6.6.26 | B6: MOBILE | C6: MOBILE | D6: 600 | G6: CURRENT DUE | H6: =H3+H4-H5 -> -27942.55
A7: 3.6.26 | B7: UD | C7: UD 15/3 | D7: 714.29
A8: 11.6.26 | B8: FARE | C8: FARE | D8: 110

Sheet NASIR
A1: NASIR
A2: Yellow = you type. White = auto.
A3: DATE | B3: TYPE | C3: PARTICULAR | D3: AMOUNT | E3: COMPANY | G3: PREVIOUS DUE | H3: -732 | J3: ADV DATE | K3: ADV PARTICULAR | L3: ADV AMOUNT
A4: 9.6.26 | B4: VISA | C4: VISA CREDIT, INV 000229 | D4: 638 | G4: TOTAL BILL | H4: =FLOOR(SUM(D4:D203),1) -> 2623 | J4: 6.6.26 | K4: advance | L4: 2000
A5: 9.6.26 | B5: FARE | C5: FARE | D5: 140 | G5: ADVANCE TAKEN | H5: =SUM(L4:L33) -> 3000 | J5: 11.6.26 | K5: advance | L5: 1000
A6: 8.6.26 | B6: FARE | C6: FARE | D6: 325 | G6: CURRENT DUE | H6: =H3+H4-H5 -> -1109
A7: 7.6.26 | B7: FARE | C7: FARE | D7: 110
A8: 7.6.26 | B8: LUNCH | C8: LUNCH | D8: 220
A9: 25.5.26 | B9: MOBILE | C9: MOBILE | D9: 1000
A10: 11.6.26 | B10: LUNCH | C10: LUNCH | D10: 190

Sheet MAHFUZ
A1: MAHFUZ
A2: Yellow = you type. White = auto.
A3: DATE | B3: TYPE | C3: PARTICULAR | D3: AMOUNT | E3: COMPANY | G3: PREVIOUS DUE | J3: ADV DATE | K3: ADV PARTICULAR | L3: ADV AMOUNT
A4: 10.6.26 | B4: FARE | C4: FARE | D4: 100 | G4: TOTAL BILL | H4: =FLOOR(SUM(D4:D203),1) -> 5761 | J4: 6.6.26 | K4: advance | L4: 5000
A5: 9.6.26 | B5: UD | C5: UD 1/4 | D5: 714.29 | G5: ADVANCE TAKEN | H5: =SUM(L4:L33) -> 5000
A6: 8.6.26 | B6: FARE | C6: FARE | D6: 270 | G6: CURRENT DUE | H6: =H3+H4-H5 -> 761
A7: 8.6.26 | B7: LUNCH | C7: LUNCH | D7: 100
A8: 7.6.26 | B8: LUNCH | C8: LUNCH | D8: 100
A9: 7.6.26 | B9: FARE | C9: FARE | D9: 170
A10: 6.6.26 | B10: MOBILE | C10: MOBILE | D10: 300
A11: 25.5.26 | B11: FARE | C11: FARE | D11: 800
A12: 25.5.26 | B12: UD | C12: UD 15/2 | D12: 714.29
A13: 25.5.26 | B13: UD | C13: UD 7/5 | D13: 714.29
A14: 11.6.26 | B14: FARE | C14: FARE | D14: 100
A15: 11.6.26 | B15: FARE | C15: FARE | D15: 150
A16: 11.6.26 | B16: LUNCH | C16: LUNCH | D16: 100
A17: 10.6.26 | B17: UD | C17: UD 8/3 | D17: 714.29
A18: 10.6.26 | B18: UD | C18: UD 16/1 | D18: 714.29

Sheet JIHAD
A1: JIHAD
A2: Yellow = you type. White = auto.
A3: DATE | B3: TYPE | C3: PARTICULAR | D3: AMOUNT | E3: COMPANY | G3: PREVIOUS DUE | H3: -9969 | J3: ADV DATE | K3: ADV PARTICULAR | L3: ADV AMOUNT
A4: 10.6.26 | B4: COURIER | C4: COURIER | D4: 45 | G4: TOTAL BILL | H4: =FLOOR(SUM(D4:D203),1) -> 90835 | J4: 7.6.26 | K4: advance | L4: 3500
A5: 10.6.26 | B5: LUNCH | C5: LUNCH | D5: 100 | G5: ADVANCE TAKEN | H5: =SUM(L4:L33) -> 82500 | J5: 8.6.26 | K5: advance | L5: 70000
A6: 10.6.26 | B6: PAPERx2 | C6: A4X2 | D6: 960 | G6: CURRENT DUE | H6: =H3+H4-H5 -> -1634 | J6: 8.6.26 | K6: advance | L6: 8000
A7: 10.6.26 | B7: FARE | C7: FARE | D7: 210 | J7: 10.6.26 | K7: advance | L7: 1000
A8: 10.6.26 | B8: BL | C8: BL INV-120/26, BGLH261073, MR003439 | D8: 6300
A9: 9.6.26 | B9: FARE | C9: FARE | D9: 140
A10: 9.6.26 | B10: LUNCH | C10: LUNCH | D10: 100
A11: 9.6.26 | B11: STAMP | C11: STAMP INV-111/26, 105/26 | D11: 6000
A12: 9.6.26 | B12: BL | C12: BL INV-105/26, 111/26, PCL26050199, PCL26050205, MR0003354 | D12: 7500
A13: 9.6.26 | B13: BL | C13: BL INV-99/26, NLLDAC03449, MR005051 | D13: 2500
A14: 9.6.26 | B14: BL | C14: BL INV-112/26, DACA003621 INV-DACI014412 | D14: 3500
A15: 8.6.26 | B15: FARE | C15: FARE | D15: 160
A16: 8.6.26 | B16: LUNCH | C16: LUNCH | D16: 100
A17: 8.6.26 | B17: PRINT | C17: COPY | D17: 50
A18: 8.6.26 | B18: BL | C18: BL INV-98/26, BGL160905, DOC: 14000006545 | D18: 2700
A19: 8.6.26 | B19: STAMP | C19: STAMP INV-98/26, 6X500 | D19: 3000
... A39: 11.6.26 | B39: FARE | C39: FARE | D39: 110

Sheet MD SIR
A1: MD SIR
A2: Yellow = you type. White = auto.
A3: DATE | B3: TYPE | C3: PARTICULAR | D3: AMOUNT | E3: COMPANY | G3: PREVIOUS DUE | H3: -7000 | J3: ADV DATE | K3: ADV PARTICULAR | L3: ADV AMOUNT
G4: TOTAL BILL | H4: =FLOOR(SUM(D4:D203),1) -> 0 | J4: 10.6.26 | K4: CURRENT BILL | L4: 7000
G5: ADVANCE TAKEN | H5: =SUM(L4:L33) -> 14000 | J5: 10.6.26 | K5: WATER BILL/WORK, UNCLE | L5: 2000
G6: CURRENT DUE | H6: =H3+H4-H5 -> -21000 | J6: 10.6.26 | K6: AC SERVICE, UNCLE | L6: 5000

Sheet UNCLE
A1: UNCLE
A2: Yellow = you type. White = auto.
A3: DATE | B3: TYPE | C3: PARTICULAR | D3: AMOUNT | E3: COMPANY | G3: PREVIOUS DUE | H3: 0 | J3: ADV DATE | K3: ADV PARTICULAR | L3: ADV AMOUNT
G4: TOTAL BILL | H4: =SUM(D4:D203) -> 0
G5: ADVANCE TAKEN | H5: =SUM(L4:L33) -> 0
G6: CURRENT DUE | H6: =H3+H4-H5 -> 0

Sheet FUND
A1: FUND — given by Wouliour vai
A3: FUND DATE | B3: FUND AMOUNT
A4: 7.6.26 | B4: 100000
A5: 11.6.26 | B5: 50000
A10: TOTAL FUND | B10: =SUM(B4:B9) -> 150000

Sheet SUMMARY
A1: SUMMARY — this bill set
A2: 100% automatic. Do not edit (except the yellow opening-balance cell).
A3: Account | B3: Bill | C3: Advance | D3: Previous due | E3: Current due
A4: MANNA | B4: =MANNA!H4 -> 1040 | C4: =MANNA!H5 -> 5000 | D4: =MANNA!H3 -> -5854 | E4: =MANNA!H6 -> -9814
A5: OTHER | B5: =OTHER!H4 -> 12500 | C5: =OTHER!H5 -> 12500 | D5: =OTHER!H3 -> 0 | E5: =OTHER!H6 -> 0
A6: SHAWON | B6: =SHAWON!H4 -> 1574 | C6: =SHAWON!H5 -> 0 | D6: =SHAWON!H3 -> -29516.55 | E6: =SHAWON!H6 -> -27942.55
A7: NASIR | B7: =NASIR!H4 -> 2623 | C7: =NASIR!H5 -> 3000 | D7: =NASIR!H3 -> -732 | E7: =NASIR!H6 -> -1109
A8: MAHFUZ | B8: =MAHFUZ!H4 -> 5761 | C8: =MAHFUZ!H5 -> 5000 | D8: =MAHFUZ!H3 -> 0 | E8: =MAHFUZ!H6 -> 761
A9: JIHAD | B9: =JIHAD!H4 -> 90835 | C9: =JIHAD!H5 -> 82500 | D9: =JIHAD!H3 -> -9969 | E9: =JIHAD!H6 -> -1634
A10: MD SIR | B10: ='MD SIR'!H4 -> 0 | C10: ='MD SIR'!H5 -> 14000 | D10: ='MD SIR'!H3 -> -7000 | E10: ='MD SIR'!H6 -> -21000
A11: UNCLE | B11: =UNCLE!H4 -> 0 | C11: =UNCLE!H5 -> 0 | D11: =UNCLE!H3 -> 0 | E11: =UNCLE!H6 -> 0
A12: TOTAL | B12: =SUM(B4:B11) -> 114333 | C12: =SUM(C4:C11) -> 122000 | D12: =SUM(D4:D11) -> -53071.55 | E12: =SUM(E4:E11) -> -60738.55
A14: MEMBER DUE (held by all) | B14: =E12 -> -60738.55
A16: WOULIOUR VAI — running statement
A17: Opening balance owed | B17: -80263.55
A18: New fund this set | B18: =FUND!B10 -> 150000
A19: Bills submitted this set | B19: =B12 -> 114333
A20: Closing balance owed | B20: =B17-B18+B19 -> -115930.55
